BEGIN:VCALENDAR
VERSION:2.0
PRODID:-//Iche - ECPv6.15.20//NONSGML v1.0//EN
CALSCALE:GREGORIAN
METHOD:PUBLISH
X-ORIGINAL-URL:https://iche.ec
X-WR-CALDESC:Eventos para Iche
REFRESH-INTERVAL;VALUE=DURATION:PT1H
X-Robots-Tag:noindex
X-PUBLISHED-TTL:PT1H
BEGIN:VTIMEZONE
TZID:America/New_York
BEGIN:DAYLIGHT
TZOFFSETFROM:-0500
TZOFFSETTO:-0400
TZNAME:EDT
DTSTART:20230312T070000
END:DAYLIGHT
BEGIN:STANDARD
TZOFFSETFROM:-0400
TZOFFSETTO:-0500
TZNAME:EST
DTSTART:20231105T060000
END:STANDARD
BEGIN:DAYLIGHT
TZOFFSETFROM:-0500
TZOFFSETTO:-0400
TZNAME:EDT
DTSTART:20240310T070000
END:DAYLIGHT
BEGIN:STANDARD
TZOFFSETFROM:-0400
TZOFFSETTO:-0500
TZNAME:EST
DTSTART:20241103T060000
END:STANDARD
BEGIN:DAYLIGHT
TZOFFSETFROM:-0500
TZOFFSETTO:-0400
TZNAME:EDT
DTSTART:20250309T070000
END:DAYLIGHT
BEGIN:STANDARD
TZOFFSETFROM:-0400
TZOFFSETTO:-0500
TZNAME:EST
DTSTART:20251102T060000
END:STANDARD
END:VTIMEZONE
BEGIN:VEVENT
DTSTART;VALUE=DATE:20241230
DTEND;VALUE=DATE:20250101
DTSTAMP:20260423T143357
CREATED:20240213T182617Z
LAST-MODIFIED:20240213T193300Z
UID:989862-1735516800-1735689599@iche.ec
SUMMARY:Menú especial
DESCRIPTION:Menú especial
URL:https://iche.ec/evento/menu-especial/
LOCATION:Iche
CATEGORIES:Gastronomía
ATTACH;FMTTYPE=image/jpeg:https://iche.ec/wp-content/uploads/2024/02/menu-especial.jpg
END:VEVENT
BEGIN:VEVENT
DTSTART;VALUE=DATE:20241102
DTEND;VALUE=DATE:20241103
DTSTAMP:20260423T143357
CREATED:20240213T182506Z
LAST-MODIFIED:20240213T193658Z
UID:989855-1730505600-1730591999@iche.ec
SUMMARY:Feriado de difuntos
DESCRIPTION:Feriado de difuntos
URL:https://iche.ec/evento/feriado-de-difuntos/
LOCATION:Iche
CATEGORIES:Festividades
ATTACH;FMTTYPE=image/jpeg:https://iche.ec/wp-content/uploads/2024/02/feriado-difuntos.jpg
END:VEVENT
BEGIN:VEVENT
DTSTART;VALUE=DATE:20241001
DTEND;VALUE=DATE:20241101
DTSTAMP:20260423T143357
CREATED:20240213T182340Z
LAST-MODIFIED:20240213T192117Z
UID:989852-1727740800-1730419199@iche.ec
SUMMARY:Evento gastronómico
DESCRIPTION:Evento gastronómico con chef Quique Sempere\, colaboración Iche + Aura
URL:https://iche.ec/evento/evento-gastronomico-3/
LOCATION:Iche
CATEGORIES:Gastronomía
ATTACH;FMTTYPE=image/jpeg:https://iche.ec/wp-content/uploads/2024/02/Evento-gastronomico-con-Quique-Sempere.jpg
END:VEVENT
BEGIN:VEVENT
DTSTART;VALUE=DATE:20240901
DTEND;VALUE=DATE:20241001
DTSTAMP:20260423T143357
CREATED:20240213T182251Z
LAST-MODIFIED:20240213T191703Z
UID:989849-1725148800-1727740799@iche.ec
SUMMARY:Evento de recaudación de fondos
DESCRIPTION:Evento de recaudación de fondos para becas con chef por definir\, restaurante por definir en Guayaquil
URL:https://iche.ec/evento/evento-de-recaudacion-de-fondos-3/
CATEGORIES:Gastronomía
ATTACH;FMTTYPE=image/jpeg:https://iche.ec/wp-content/uploads/2024/02/Evento-de-recaudacion-gye.jpg
END:VEVENT
BEGIN:VEVENT
DTSTART;VALUE=DATE:20240901
DTEND;VALUE=DATE:20241001
DTSTAMP:20260423T143357
CREATED:20240213T182206Z
LAST-MODIFIED:20240213T191818Z
UID:989846-1725148800-1727740799@iche.ec
SUMMARY:Talleres cortos
DESCRIPTION:Talleres cortos en GYE — por definir Escuela/Instituto
URL:https://iche.ec/evento/talleres-cortos/
CATEGORIES:Educación
ATTACH;FMTTYPE=image/jpeg:https://iche.ec/wp-content/uploads/2024/02/talleres-gye.jpg
END:VEVENT
BEGIN:VEVENT
DTSTART;VALUE=DATE:20240801
DTEND;VALUE=DATE:20240901
DTSTAMP:20260423T143357
CREATED:20240213T182110Z
LAST-MODIFIED:20240213T191450Z
UID:989843-1722470400-1725148799@iche.ec
SUMMARY:Evento gastronómico
DESCRIPTION:Evento gastronómico con chef Santiago Cueva\, colaboración Iche + Marcando el Camino
URL:https://iche.ec/evento/evento-gastronomico-2/
LOCATION:Iche
CATEGORIES:Gastronomía
ATTACH;FMTTYPE=image/jpeg:https://iche.ec/wp-content/uploads/2024/02/Evento-con-Santiago-Cueva.jpg
END:VEVENT
BEGIN:VEVENT
DTSTART;VALUE=DATE:20240801
DTEND;VALUE=DATE:20240901
DTSTAMP:20260423T143357
CREATED:20240213T182024Z
LAST-MODIFIED:20240213T193056Z
UID:989840-1722470400-1725148799@iche.ec
SUMMARY:Talleres cortos en Iche
DESCRIPTION:Talleres cortos en Iche
URL:https://iche.ec/evento/talleres-cortos-en-iche-2/
LOCATION:Iche
CATEGORIES:Educación
ATTACH;FMTTYPE=image/jpeg:https://iche.ec/wp-content/uploads/2024/02/taller-iche.jpg
END:VEVENT
BEGIN:VEVENT
DTSTART;VALUE=DATE:20240701
DTEND;VALUE=DATE:20240801
DTSTAMP:20260423T143357
CREATED:20240213T181938Z
LAST-MODIFIED:20240213T191204Z
UID:989837-1719792000-1722470399@iche.ec
SUMMARY:Visita del comité internacional
DESCRIPTION:Visita del comité internacional de selección de la región gastronómica mundial (Instituto Internacional de Gastronomía\, Cultura\, Artes y Turismo)
URL:https://iche.ec/evento/visita-del-comite-internacional/
LOCATION:Iche
CATEGORIES:Arte & Cultura
ATTACH;FMTTYPE=image/jpeg:https://iche.ec/wp-content/uploads/2024/02/Visita-del-comite-internacional.jpg
END:VEVENT
BEGIN:VEVENT
DTSTART;VALUE=DATE:20240701
DTEND;VALUE=DATE:20240801
DTSTAMP:20260423T143357
CREATED:20240213T181838Z
LAST-MODIFIED:20240213T190949Z
UID:989834-1719792000-1722470399@iche.ec
SUMMARY:Evento gastronómico
DESCRIPTION:Evento gastronómico con chef Luis Maldonado\, colaboración Iche + Tributo
URL:https://iche.ec/evento/evento-gastronomico/
LOCATION:Iche
CATEGORIES:Gastronomía
ATTACH;FMTTYPE=image/jpeg:https://iche.ec/wp-content/uploads/2024/02/evento-con-chef-Luis-Maldonado.jpg
END:VEVENT
BEGIN:VEVENT
DTSTART;VALUE=DATE:20240616
DTEND;VALUE=DATE:20240617
DTSTAMP:20260423T143357
CREATED:20240213T181455Z
LAST-MODIFIED:20240213T190434Z
UID:989828-1718496000-1718582399@iche.ec
SUMMARY:Día del Padre
DESCRIPTION:Día del Padre
URL:https://iche.ec/evento/dia-del-padre/
LOCATION:Iche
CATEGORIES:Festividades
ATTACH;FMTTYPE=image/jpeg:https://iche.ec/wp-content/uploads/2024/02/dia-del-padre.jpg
END:VEVENT
BEGIN:VEVENT
DTSTART;VALUE=DATE:20240601
DTEND;VALUE=DATE:20240701
DTSTAMP:20260423T143357
CREATED:20240213T181731Z
LAST-MODIFIED:20240213T190343Z
UID:989831-1717200000-1719791999@iche.ec
SUMMARY:Charla por el  Manabitismo
DESCRIPTION:Charla por el Manabitismo
URL:https://iche.ec/evento/charla-por-el-manabitismo/
CATEGORIES:Arte & Cultura
ATTACH;FMTTYPE=image/jpeg:https://iche.ec/wp-content/uploads/2024/02/Manabitismo.jpg
END:VEVENT
BEGIN:VEVENT
DTSTART;VALUE=DATE:20240601
DTEND;VALUE=DATE:20240701
DTSTAMP:20260423T143357
CREATED:20240213T181310Z
LAST-MODIFIED:20240213T190015Z
UID:989825-1717200000-1719791999@iche.ec
SUMMARY:Evento gastronómico por el bicentenario de Manabí
DESCRIPTION:Evento gastronómico por el bicentenario de Manabí\, menú del bicentenario
URL:https://iche.ec/evento/evento-gastronomico-por-el-bicentenario-de-manabi/
LOCATION:Iche
CATEGORIES:Gastronomía
ATTACH;FMTTYPE=image/jpeg:https://iche.ec/wp-content/uploads/2024/02/bicentenario-manabi.jpg
END:VEVENT
BEGIN:VEVENT
DTSTART;VALUE=DATE:20240601
DTEND;VALUE=DATE:20240701
DTSTAMP:20260423T143357
CREATED:20240213T181215Z
LAST-MODIFIED:20240213T185805Z
UID:989821-1717200000-1719791999@iche.ec
SUMMARY:Evento de recaudación de fondos
DESCRIPTION:Evento de recaudación de fondos para becas con chefs Felipe Salas & Angel de Sousa
URL:https://iche.ec/evento/evento-de-recaudacion-de-fondos-2/
LOCATION:Restaurante Clara\, Quito\, Ecuador
CATEGORIES:Gastronomía
ATTACH;FMTTYPE=image/jpeg:https://iche.ec/wp-content/uploads/2024/02/recaudacion-de-fondos-clara.jpg
END:VEVENT
BEGIN:VEVENT
DTSTART;VALUE=DATE:20240512
DTEND;VALUE=DATE:20240513
DTSTAMP:20260423T143357
CREATED:20240213T181047Z
LAST-MODIFIED:20240213T185526Z
UID:989818-1715472000-1715558399@iche.ec
SUMMARY:Día de la Madre
DESCRIPTION:Día de la Madre
URL:https://iche.ec/evento/dia-de-la-madre/
LOCATION:Iche
CATEGORIES:Festividades
ATTACH;FMTTYPE=image/jpeg:https://iche.ec/wp-content/uploads/2024/02/dia-de-la-madre.jpg
END:VEVENT
BEGIN:VEVENT
DTSTART;VALUE=DATE:20240502
DTEND;VALUE=DATE:20240504
DTSTAMP:20260423T143357
CREATED:20240213T180924Z
LAST-MODIFIED:20240213T185238Z
UID:989814-1714608000-1714780799@iche.ec
SUMMARY:Evento de recaudación de fondos
DESCRIPTION:Evento de recaudación de fondos para becas con chef Isabella Chiriboga
URL:https://iche.ec/evento/evento-de-recaudacion-de-fondos/
LOCATION:Pez Bela\, Quito\, Ecuador
CATEGORIES:Gastronomía
ATTACH;FMTTYPE=image/jpeg:https://iche.ec/wp-content/uploads/2024/02/recaudacion-de-fondos-uio.jpg
END:VEVENT
BEGIN:VEVENT
DTSTART;VALUE=DATE:20240430
DTEND;VALUE=DATE:20240531
DTSTAMP:20260423T143357
CREATED:20240213T180603Z
LAST-MODIFIED:20240213T192921Z
UID:989807-1714435200-1717113599@iche.ec
SUMMARY:Talleres cortos en Quito
DESCRIPTION:Talleres cortos en Quito en UDLA 30 abril y 1 de mayo
URL:https://iche.ec/evento/talleres-cortos-en-quito/
LOCATION:UDLA\, Quito\, Ecuador
CATEGORIES:Educación
ATTACH;FMTTYPE=image/jpeg:https://iche.ec/wp-content/uploads/2024/02/taller-uio.jpg
END:VEVENT
BEGIN:VEVENT
DTSTART;VALUE=DATE:20240404
DTEND;VALUE=DATE:20240406
DTSTAMP:20260423T143357
CREATED:20240213T180802Z
LAST-MODIFIED:20240213T193454Z
UID:989811-1712188800-1712361599@iche.ec
SUMMARY:Evento de recaudación
DESCRIPTION:Evento de recaudación de fondos para becas con chef Diego Gutierrez
URL:https://iche.ec/evento/evento-de-recaudacion/
LOCATION:Instituto San Isidrio\, Cuenca\, Ecuador
CATEGORIES:Gastronomía
ATTACH;FMTTYPE=image/jpeg:https://iche.ec/wp-content/uploads/2024/02/recaudacion.jpg
END:VEVENT
BEGIN:VEVENT
DTSTART;VALUE=DATE:20240402
DTEND;VALUE=DATE:20240404
DTSTAMP:20260423T143357
CREATED:20240213T180338Z
LAST-MODIFIED:20240213T192805Z
UID:989798-1712016000-1712188799@iche.ec
SUMMARY:Talleres cortos Cuenca
DESCRIPTION:Talleres cortos en Cuenca en Instituto San Isidro\, 2 y 3 de abril
URL:https://iche.ec/evento/talleres-cortos-cuenca/
LOCATION:Instituto San Isidrio\, Cuenca\, Ecuador
CATEGORIES:Educación
ATTACH;FMTTYPE=image/jpeg:https://iche.ec/wp-content/uploads/2024/02/taller-cue.jpg
END:VEVENT
BEGIN:VEVENT
DTSTART;VALUE=DATE:20240301
DTEND;VALUE=DATE:20240401
DTSTAMP:20260423T143357
CREATED:20240213T180108Z
LAST-MODIFIED:20240213T184625Z
UID:989795-1709251200-1711929599@iche.ec
SUMMARY:Menú a ciegas
DESCRIPTION:Experiencia gastronómica a ciegas
URL:https://iche.ec/evento/menu-a-ciegas/
LOCATION:Iche
CATEGORIES:Gastronomía
ATTACH;FMTTYPE=image/jpeg:https://iche.ec/wp-content/uploads/2024/02/menu-a-ciegas.jpg
END:VEVENT
BEGIN:VEVENT
DTSTART;VALUE=DATE:20240214
DTEND;VALUE=DATE:20240215
DTSTAMP:20260423T143357
CREATED:20240213T184458Z
LAST-MODIFIED:20240213T184458Z
UID:989868-1707868800-1707955199@iche.ec
SUMMARY:San Valentín
DESCRIPTION:San Valentín
URL:https://iche.ec/evento/san-valentin/
LOCATION:Iche
CATEGORIES:Festividades
ATTACH;FMTTYPE=image/jpeg:https://iche.ec/wp-content/uploads/2024/02/san-valentin.jpg
END:VEVENT
BEGIN:VEVENT
DTSTART;VALUE=DATE:20240210
DTEND;VALUE=DATE:20240214
DTSTAMP:20260423T143357
CREATED:20240213T180016Z
LAST-MODIFIED:20240213T184254Z
UID:989792-1707523200-1707868799@iche.ec
SUMMARY:Carnaval
DESCRIPTION:Carnaval
URL:https://iche.ec/evento/carnaval/
LOCATION:Iche
CATEGORIES:Festividades
ATTACH;FMTTYPE=image/jpeg:https://iche.ec/wp-content/uploads/2024/02/carnaval.jpg
END:VEVENT
BEGIN:VEVENT
DTSTART;VALUE=DATE:20240201
DTEND;VALUE=DATE:20240301
DTSTAMP:20260423T143357
CREATED:20240213T175843Z
LAST-MODIFIED:20240213T192515Z
UID:989788-1706745600-1709251199@iche.ec
SUMMARY:Evento gastronómico con chef Alejandro huertas\, colaboración Iche + 3500
DESCRIPTION:Evento gastronómico con chef Alejandro huertas\, colaboración Iche + 3500
URL:https://iche.ec/evento/evento-gastronomico-con-chef-alejandro-huertas-colaboracion-iche-3500/
LOCATION:Iche
CATEGORIES:Gastronomía
ATTACH;FMTTYPE=image/jpeg:https://iche.ec/wp-content/uploads/2024/02/3500.jpg
END:VEVENT
BEGIN:VEVENT
DTSTART;VALUE=DATE:20240201
DTEND;VALUE=DATE:20240301
DTSTAMP:20260423T143357
CREATED:20240213T175715Z
LAST-MODIFIED:20240213T183800Z
UID:989785-1706745600-1709251199@iche.ec
SUMMARY:Talleres cortos en Iche
DESCRIPTION:Talleres cortos en Iche
URL:https://iche.ec/evento/talleres-cortos-en-iche/
CATEGORIES:Educación
ATTACH;FMTTYPE=image/jpeg:https://iche.ec/wp-content/uploads/2024/02/Talleres-cortos-feb.jpg
END:VEVENT
BEGIN:VEVENT
DTSTART;VALUE=DATE:20240101
DTEND;VALUE=DATE:20240201
DTSTAMP:20260423T143357
CREATED:20240206T231601Z
LAST-MODIFIED:20240213T192350Z
UID:989779-1704067200-1706745599@iche.ec
SUMMARY:Participación de Valentina en FITUR
DESCRIPTION:Participación de Valentina en FITUR
URL:https://iche.ec/evento/participacion-de-valentina-en-fitur/
CATEGORIES:Gastronomía
ATTACH;FMTTYPE=image/jpeg:https://iche.ec/wp-content/uploads/2024/02/valentina.jpg
END:VEVENT
END:VCALENDAR